BEGIN:VCALENDAR
VERSION:2.0
PRODID:-//James Moore - ECPv6.15.16//NONSGML v1.0//EN
CALSCALE:GREGORIAN
METHOD:PUBLISH
X-WR-CALNAME:James Moore
X-ORIGINAL-URL:https://www.jmco.com
X-WR-CALDESC:Events for James Moore
REFRESH-INTERVAL;VALUE=DURATION:PT1H
X-Robots-Tag:noindex
X-PUBLISHED-TTL:PT1H
BEGIN:VTIMEZONE
TZID:America/New_York
BEGIN:DAYLIGHT
TZOFFSETFROM:-0500
TZOFFSETTO:-0400
TZNAME:EDT
DTSTART:20240310T070000
END:DAYLIGHT
BEGIN:STANDARD
TZOFFSETFROM:-0400
TZOFFSETTO:-0500
TZNAME:EST
DTSTART:20241103T060000
END:STANDARD
BEGIN:DAYLIGHT
TZOFFSETFROM:-0500
TZOFFSETTO:-0400
TZNAME:EDT
DTSTART:20250309T070000
END:DAYLIGHT
BEGIN:STANDARD
TZOFFSETFROM:-0400
TZOFFSETTO:-0500
TZNAME:EST
DTSTART:20251102T060000
END:STANDARD
BEGIN:DAYLIGHT
TZOFFSETFROM:-0500
TZOFFSETTO:-0400
TZNAME:EDT
DTSTART:20260308T070000
END:DAYLIGHT
BEGIN:STANDARD
TZOFFSETFROM:-0400
TZOFFSETTO:-0500
TZNAME:EST
DTSTART:20261101T060000
END:STANDARD
BEGIN:DAYLIGHT
TZOFFSETFROM:-0500
TZOFFSETTO:-0400
TZNAME:EDT
DTSTART:20270314T070000
END:DAYLIGHT
BEGIN:STANDARD
TZOFFSETFROM:-0400
TZOFFSETTO:-0500
TZNAME:EST
DTSTART:20271107T060000
END:STANDARD
END:VTIMEZONE
BEGIN:VEVENT
DTSTART;TZID=America/New_York:20260408T140000
DTEND;TZID=America/New_York:20260408T150000
DTSTAMP:20260422T045906
CREATED:20260311T193629Z
LAST-MODIFIED:20260311T193629Z
UID:57304-1775656800-1775660400@www.jmco.com
SUMMARY:5 Signs Your Nonprofit Has Outgrown Its Accounting Software
DESCRIPTION:Does your monthly reporting take hours? Do your grant reports require manual spreadsheets? Does your team struggle to track multiple funding sources? Your accounting software could be to blame. \nMany nonprofits start with systems that work well in the early years. But as funding grows\, reporting requirements increase and transparency becomes more important for donors and grantors\, those same systems can create bottlenecks for your finance team. \nThe right accounting software can do far more than record transactions. It can simplify grant reporting\, improve financial transparency and give your team more time to focus on your mission. \nJoin James Moore partner/Nonprofit Services team leader Corinne LaRoche and accounting implementation supervisor Valarie Farias for a discussion on how nonprofits can determine when it’s time to move to a new accounting system—and how to confidently approach the process. \nDuring this session\, we’ll cover: \n– The key signs your nonprofit has outgrown its accounting system \n– How better software can save staff time and simplify grant reporting \n– Popular accounting software options for nonprofits and their pros and cons \n– Budget considerations for new accounting systems \n– The differences between cloud-based and server-based platforms \n– How to plan a smooth transition to new software \n– What to look for in a consultant to avoid migration headaches \nWhether your nonprofit is experiencing reporting challenges or preparing for growth\, you’ll get to-the-point guidance to help you evaluate your options and plan your next steps. \nRegister now!
URL:https://www.jmco.com/event/nonprofit-accounting-software/
LOCATION:GoToWebinar
CATEGORIES:Webinar
ATTACH;FMTTYPE=image/png:https://www.jmco.com/wp-content/uploads/2026/03/featured-image-1100-x-800-2026-03-11T144352.385.png
ORGANIZER;CN="James Moore & Co.":MAILTO:info@jmco.com
END:VEVENT
BEGIN:VEVENT
DTSTART;TZID=America/New_York:20260225T154500
DTEND;TZID=America/New_York:20260225T163000
DTSTAMP:20260422T045906
CREATED:20260206T175034Z
LAST-MODIFIED:20260206T175106Z
UID:56171-1772034300-1772037000@www.jmco.com
SUMMARY:Much Ado About Pay: Competitive Compensation in Manufacturing
DESCRIPTION:Julie Kniseley is Presenting at the Fabricators and Manufacturers Association Annual Meeting\nWednesday\, February 25\, 2026  – 3:45 pm – 4:30 pm (EST) \nThe manufacturing sector is undergoing significant transformation driven by advancements in AI and automation and that involves the hiring process and HR function. Manufacturers must cultivate a culture of continuous learning to ensure their teams stay agile\, capable\, and future-ready. Without clarification\, it can be a challenge to accurately assess how compensation packages compare to those of your competitors for a number of reasons. \nMany times employers try to save money by offering inflated titles instead of actual raises. Job descriptions are often vague or outdated\, and in addition\, similar titles can reflect vastly different responsibilities. Companies that pay below the market — often without realizing it — struggle to compete for high performers. Similarly\, an organization whose salaries have become artificially inflated end up overspending\, especially when more qualified personnel might deliver better outcomes for less expense. \nJulie will explore the importance of data-driven compensation analysis and how it helps companies strike the right balance by offering insights into true market value. A thoughtful compensation analysist strengthens culture\, helps attract top talent and can retain the best workers. Leaders will learn: \n\nWhy a compensation analysis is critical in the manufacturing sector to maintain operational efficiency\nThe importance of leveraging both technology and human expertise to put sought-after talent into the correct roles\nHow job descriptions\, salary ranges\, and market compensation benchmarks are all key.
URL:https://www.jmco.com/event/much-ado-about-pay-competitive-compensation-in-manufacturing/
CATEGORIES:Event
ATTACH;FMTTYPE=image/jpeg:https://www.jmco.com/wp-content/uploads/2026/02/Featured-Image-FMA-2026.jpg
END:VEVENT
BEGIN:VEVENT
DTSTART;TZID=America/New_York:20260129T140000
DTEND;TZID=America/New_York:20260129T150000
DTSTAMP:20260422T045906
CREATED:20260112T150719Z
LAST-MODIFIED:20260112T150719Z
UID:55111-1769695200-1769698800@www.jmco.com
SUMMARY:Future-Proofing Your Construction Firm: Practical Succession Planning for Sustainable Growth
DESCRIPTION:Protect Your Company’s Value. Strengthen Your Leadership Bench. Plan Your Next Chapter. \nJanuary 29\, 2026  – 2:00 pm – 3:00 pm (EST) \nWhy Attend?  \nGet the best advice on how to address an aging workforce\, rising insurance costs\, leadership gaps and increasing business complexity. This webinar will give you the tools you need to start building more strength into your business and get it ready for the future.  \nIn under an hour\, you’ll learn:  \n\nWhy most succession efforts fail—and how to avoid it \n\n\nWhat strong financials\, tax strategy\, and job costing must look like before transition \n\n\nHow to build and evaluate your leadership pipeline \n\n\nHow to approach internal succession\, family transition\, MBO\, ESOP\, and external sale \n\nYou’ll leave with a simple 5-step roadmap you can immediately apply to your business.  \nWho Should Attend?  \nOwners\, CFOs\, Controllers\, Presidents\, and next-gen leaders at privately held\, mid-market construction firms.  \nREGISTER NOW
URL:https://www.jmco.com/event/future-proofing-your-construction-firm-practical-succession-planning-for-sustainable-growth/
LOCATION:GoToWebinar
CATEGORIES:Webinar
ATTACH;FMTTYPE=image/jpeg:https://www.jmco.com/wp-content/uploads/2026/01/Future-Proofing-Your-Construction-Firm_Thumbnail-1280x720-2.jpg
ORGANIZER;CN="James Moore & Co.":MAILTO:info@jmco.com
END:VEVENT
BEGIN:VEVENT
DTSTART;TZID=America/New_York:20250813T140000
DTEND;TZID=America/New_York:20250813T150000
DTSTAMP:20260422T045906
CREATED:20250729T203824Z
LAST-MODIFIED:20250729T203824Z
UID:51271-1755093600-1755097200@www.jmco.com
SUMMARY:Tax Changes Ahead: Breaking Down the OBBBA for Businesses & Individuals
DESCRIPTION:Tax law just got a major rewrite; are you ready? With sweeping changes to business deductions\, depreciation rules and estate planning thresholds\, understanding the One Big Beautiful Bill Act is essential. \nJoin James Moore director Kyle Paxton and senior manager Caleb Brogan on [DATE\, TIME] as they explain what the One Big Beautiful Bill Act means for your business and how you can prepare now to take advantage of its provisions. \nIn this timely webinar\, Kyle and Caleb will break down the core elements of the new law to guide business owners and financial leaders through the immediate and long-term tax implications. Changes they cover will include: \n\nHow 100% bonus depreciation\, increased 179 Expense limits\, and reinstated R&D expensing create new capital planning opportunities\nKey update to the state tax deduction limitation for individuals (SALT cap) how it impacts your entity choice\nThe creation of new tax-deferred savings options (like “Trump Accounts”) and expansion of 529 plans\nWhat the permanent expansion of the lifetime gift and estate tax exemption means for high-net-worth individuals\nEmployer-focused credits and provisions for employee benefits\, like no tax on tips\nReporting requirement changes on forms 1099-K\, MISC and NEC\nChanges to Itemized deductions at the individual level including charitable contributions\, mortgage interest expense\, and vehicle interest expense\nAnd more\n\nBring your questions and join two of James Moore’s top tax professionals for this vital\, in-depth discussion! \nRegister Now
URL:https://www.jmco.com/event/obbba-for-businesses-individuals-webinar/
LOCATION:GoToWebinar
CATEGORIES:Webinar
ATTACH;FMTTYPE=image/png:https://www.jmco.com/wp-content/uploads/2025/07/Tax-Changes-Ahead-Breaking-Down-the-OBBBA-for-Businesses-and-Individuals-1.png
ORGANIZER;CN="James Moore & Co.":MAILTO:info@jmco.com
END:VEVENT
BEGIN:VEVENT
DTSTART;TZID=America/New_York:20250611T140000
DTEND;TZID=America/New_York:20250611T154500
DTSTAMP:20260422T045906
CREATED:20250417T210601Z
LAST-MODIFIED:20250417T210601Z
UID:48494-1749650400-1749656700@www.jmco.com
SUMMARY:Government CPE Webinar: The Case for Outsourced Accounting
DESCRIPTION:In this session\, we’ll discuss the current state of government finance and look at the pros and cons of outsourcing portions of your finance. Areas covered will include the concerns that local municipalities have about outsourcing\, a case study of the first 100 days working with an outsourced provider\, and the best way to seek out an outsourcing solution. \nPresenters:\nBrendan McKitrick\, CPA\, Director\nBen Clark\, CPA\, Director\nLorrie Brinson\, CPA\, Manager\, Governmental Advisory Group \nREGISTER NOW
URL:https://www.jmco.com/event/the-case-for-outsourced-accounting/
LOCATION:GoToWebinar
CATEGORIES:Webinar
ATTACH;FMTTYPE=image/png:https://www.jmco.com/wp-content/uploads/2025/04/Gov_webinar_event_page_OutsourcedAccounting.png
ORGANIZER;CN="James Moore & Co.":MAILTO:info@jmco.com
END:VEVENT
BEGIN:VEVENT
DTSTART;TZID=America/New_York:20250604T140000
DTEND;TZID=America/New_York:20250604T154500
DTSTAMP:20260422T045906
CREATED:20250417T205718Z
LAST-MODIFIED:20250417T205718Z
UID:48490-1749045600-1749051900@www.jmco.com
SUMMARY:Government CPE Webinar - The Future of Government Finance: How Gen AI and Data Analytics Reduce Manual Work and Unlock Insights
DESCRIPTION:Government finance teams face growing challenges—managing complex data\, ensuring accuracy\, and making informed decisions with limited resources. Emerging generative AI (Gen AI) and data analytics tools offer practical solutions to streamline operations\, automate repetitive tasks and unlock valuable insights. \nIn this session\, Daniel Shorstein\, President of James Moore Digital and the Pythonic Accountant\, will demonstrate how AI can transform financial management by reducing manual work and enhancing decision-making. Through live demonstrations of AI-powered tools (including ChatGPT and custom GPTs)\, attendees will see firsthand how to integrate AI into their workflows. \nTopics will include:\n✔️ How AI can help automate financial data processing and reporting\n✔️ Real-world applications of AI in government finance\n✔️ Steps to begin using AI tools today for efficiency and accuracy\n✔️ Interactive Q&A and live polling to address audience concerns \nJoin us to explore the next evolution of financial management and gain practical insights on leveraging AI in your government finance operations. \nPresenter:\nDaniel Shorstein\, CGFM\, CPA\, President\, James Moore Digital \nREGISTER NOW
URL:https://www.jmco.com/event/gen-ai-and-data-analytics/
LOCATION:GoToWebinar
CATEGORIES:Webinar
ATTACH;FMTTYPE=image/png:https://www.jmco.com/wp-content/uploads/2025/04/Go_webinar_event_page_image_GenAI_Digital.png
ORGANIZER;CN="James Moore & Co.":MAILTO:info@jmco.com
END:VEVENT
BEGIN:VEVENT
DTSTART;TZID=America/New_York:20250521T140000
DTEND;TZID=America/New_York:20250521T154500
DTSTAMP:20260422T045906
CREATED:20250417T201929Z
LAST-MODIFIED:20250417T201929Z
UID:48486-1747836000-1747842300@www.jmco.com
SUMMARY:Government CPE Webinar - The AI Dilemma: Maximizing IT Efficiency While Mitigating Cyber Threats
DESCRIPTION:As government agencies increasingly adopt AI to enhance IT operations\, they must also address cybersecurity risks\, data privacy concerns and regulatory compliance. The team at James Moore Technology Services joins us for this webinar to explain how AI can streamline security monitoring\, detect vulnerabilities and automate risk mitigation. They’ll also discuss how you can navigate the new challenges that come with it\, such as AI-powered cyber threats\, data exposure risks and evolving compliance mandates like HIPAA\, CJIS and NIST frameworks. \nPresenters:\nTomas Sjostrom\, CISSP\, President\, Technology Services\nRyan Wilkerson\, Operations Director\, Technology Services \nREGISTER NOW
URL:https://www.jmco.com/event/government-cpe-webinar-the-ai-dilemma-maximizing-it-efficiency-while-mitigating-cyber-threats/
LOCATION:GoToWebinar
CATEGORIES:Webinar
ATTACH;FMTTYPE=image/png:https://www.jmco.com/wp-content/uploads/2025/04/Go_webinar_event_page_image.png
ORGANIZER;CN="James Moore & Co.":MAILTO:info@jmco.com
END:VEVENT
BEGIN:VEVENT
DTSTART;TZID=America/New_York:20250514T140000
DTEND;TZID=America/New_York:20250514T154500
DTSTAMP:20260422T045906
CREATED:20250417T195152Z
LAST-MODIFIED:20250417T195152Z
UID:48480-1747231200-1747237500@www.jmco.com
SUMMARY:Government CPE Webinar: GASB Update
DESCRIPTION:This course is designed to educate attendees on the recently issued accounting pronouncements from the Governmental Accounting Standards Board (GASB) and provide information on projects the GASB is currently working on. The course will take an in-depth look at the application and reporting requirements for pronouncements expected to have the biggest impacts. \nPresenters:\nZach Chalifour\, CPA\, Partner\nJames Halleran\, CPA\, Partner \nREGISTER NOW
URL:https://www.jmco.com/event/gasb-update-2025/
LOCATION:GoToWebinar
CATEGORIES:Webinar
ATTACH;FMTTYPE=image/png:https://www.jmco.com/wp-content/uploads/2023/05/Understanding-Government-FS-featured-image.png
ORGANIZER;CN="James Moore & Co.":MAILTO:info@jmco.com
END:VEVENT
BEGIN:VEVENT
DTSTART;TZID=America/New_York:20250226T140000
DTEND;TZID=America/New_York:20250226T150000
DTSTAMP:20260422T045906
CREATED:20250204T152717Z
LAST-MODIFIED:20250214T192819Z
UID:47062-1740578400-1740582000@www.jmco.com
SUMMARY:Nonprofit Crisis Management: What to Do When Funding Stops
DESCRIPTION:Recent events have been a reminder of how much nonprofits rely on their funding—and what can happen when those funds are suddenly unavailable. The fact is\, this can happen for a myriad of reasons: the sudden departure of key personnel\, withdrawal of grants or major donors\, poor financial planning\, legal issues\, even an emergency like a cyberattack or natural disaster. \nRegister here for Nonprofit Crisis Management: What to Do When Funding Stops with Corinne LaRoche\, James Moore partner and Nonprofit Services team leader. Corinne will talk about the common causes of financial crises\, how you can weather a gap in funding\, and best practices to avoid such situations whenever possible. \nAs the saying goes\, “An ounce of prevention is worth a pound of cure.” Get the tools to prepare your organization for the next (inevitable) crisis. \nREGISTER NOW
URL:https://www.jmco.com/event/nonprofit-crisis-management-webinar/
LOCATION:GoToWebinar
CATEGORIES:Webinar
ATTACH;FMTTYPE=image/png:https://www.jmco.com/wp-content/uploads/2025/02/Nonprofit-Crisis-Management-Event-Page-img-1-1.png
ORGANIZER;CN="James Moore & Co.":MAILTO:info@jmco.com
END:VEVENT
END:VCALENDAR